BEGIN:VCALENDAR
VERSION:2.0
PRODID:-//District 29 - ECPv6.15.20//NONSGML v1.0//EN
CALSCALE:GREGORIAN
METHOD:PUBLISH
X-ORIGINAL-URL:https://district29aa.org
X-WR-CALDESC:Events for District 29
REFRESH-INTERVAL;VALUE=DURATION:PT1H
X-Robots-Tag:noindex
X-PUBLISHED-TTL:PT1H
BEGIN:VTIMEZONE
TZID:America/Chicago
BEGIN:DAYLIGHT
TZOFFSETFROM:-0600
TZOFFSETTO:-0500
TZNAME:CDT
DTSTART:20210314T080000
END:DAYLIGHT
BEGIN:STANDARD
TZOFFSETFROM:-0500
TZOFFSETTO:-0600
TZNAME:CST
DTSTART:20211107T070000
END:STANDARD
BEGIN:DAYLIGHT
TZOFFSETFROM:-0600
TZOFFSETTO:-0500
TZNAME:CDT
DTSTART:20220313T080000
END:DAYLIGHT
BEGIN:STANDARD
TZOFFSETFROM:-0500
TZOFFSETTO:-0600
TZNAME:CST
DTSTART:20221106T070000
END:STANDARD
BEGIN:DAYLIGHT
TZOFFSETFROM:-0600
TZOFFSETTO:-0500
TZNAME:CDT
DTSTART:20230312T080000
END:DAYLIGHT
BEGIN:STANDARD
TZOFFSETFROM:-0500
TZOFFSETTO:-0600
TZNAME:CST
DTSTART:20231105T070000
END:STANDARD
BEGIN:DAYLIGHT
TZOFFSETFROM:-0600
TZOFFSETTO:-0500
TZNAME:CDT
DTSTART:20240310T080000
END:DAYLIGHT
BEGIN:STANDARD
TZOFFSETFROM:-0500
TZOFFSETTO:-0600
TZNAME:CST
DTSTART:20241103T070000
END:STANDARD
END:VTIMEZONE
BEGIN:VEVENT
DTSTART;VALUE=DATE:20231110
DTEND;VALUE=DATE:20231113
DTSTAMP:20260424T170940
CREATED:20230213T005448Z
LAST-MODIFIED:20230213T005448Z
UID:20662-1699574400-1699833599@district29aa.org
SUMMARY:6th Annual National Corrections Conference
DESCRIPTION:Join us for the 6th Annual National Corrections Conference.\nNovember 10-12\, 2023\nOklahoma City\, OK\nThe purpose of this weekend is for A.A. members interested in corrections to come together\, share experience\, exchange information\, and hear from other trusted servants. \nWe hope to inspire A.A. members everywhere to get involved in this important and rewarding service. \nThe location will be the\nEmbassy Suites by Hilton Oklahoma City Northwest\n3233 Northwest Expy\nOklahoma City\, OK 73112\n(405) 842-6633 \nFlyer
URL:https://district29aa.org/event/6th-annual-national-corrections-conference/
END:VEVENT
BEGIN:VEVENT
DTSTART;TZID=America/Chicago:20231028T133000
DTEND;TZID=America/Chicago:20231029T173000
DTSTAMP:20260424T170940
CREATED:20230730T061457Z
LAST-MODIFIED:20230730T061536Z
UID:23313-1698499800-1698600600@district29aa.org
SUMMARY:2023 12 Step Workshop
DESCRIPTION:Take a guided walk through the Steps.\nLearn life & training skills during this hands-on practice of working the 12 Steps of Alcoholics Anonymous according to the “Big Book.” \nOTC Group\n591 Loop 230 W\nSMITHVILLE TX\n(In front of Smithville Pecan House. Look for the AA symbol in the window.)\nLimited spots. Reserve your space by emailing:\nOTCgroup78957@gmail.com \nFlyer
URL:https://district29aa.org/event/2023-12-step-workshop/
LOCATION:On The Colorado Group\, 145 American Legion Rd\, Smithville\, TX\, 78957\, United States
END:VEVENT
BEGIN:VEVENT
DTSTART;VALUE=DATE:20231020
DTEND;VALUE=DATE:20231023
DTSTAMP:20260424T170940
CREATED:20230404T130712Z
LAST-MODIFIED:20230404T130712Z
UID:21583-1697760000-1698019199@district29aa.org
SUMMARY:Area 68 Fall Voting Assembly 2023
DESCRIPTION:Temple\, TX \nFlyer
URL:https://district29aa.org/event/area-68-fall-voting-assembly-2023/
END:VEVENT
BEGIN:VEVENT
DTSTART;TZID=America/Chicago:20231008T133000
DTEND;TZID=America/Chicago:20231008T153000
DTSTAMP:20260424T170940
CREATED:20230514T153323Z
LAST-MODIFIED:20230514T153323Z
UID:22220-1696771800-1696779000@district29aa.org
SUMMARY:District Meeting - October\, 2023
DESCRIPTION:
URL:https://district29aa.org/event/district-meeting-october-2023/
END:VEVENT
BEGIN:VEVENT
DTSTART;TZID=America/Chicago:20230930T183000
DTEND;TZID=America/Chicago:20230930T210000
DTSTAMP:20260424T170940
CREATED:20230910T170509Z
LAST-MODIFIED:20230910T170538Z
UID:23606-1696098600-1696107600@district29aa.org
SUMMARY:Area Birthday - September 2023
DESCRIPTION:SEPTEMBER AREA BIRTHDAY NIGHT — Will be hosted by the Bastrop Friday Nite / Sunday Morning Sidewalk Group on September 30\, 2023 — Please See Flier Attached 😁 \n~~~~~~~~~~~~~~~~~~~~~~~~~~~~~~~~~~~~~~~~~~~~~~~~~~~~~~\n \nHosted By: Bastrop Friday Nite / Sunday Morning Sidewalk Group Group\nWill be at: Mina Masonic Lodge\, 601 Main Street\, Bastrop\, Texas\nFellowship: 6:30 pm\nDinner: 7:00 pm\nMeat\, Coffee and Ice Tea will be provided.\nPlease bring a covered Dish or Bring a dessert\n***************************\nBirthday Meeting: 8:00 pm\nY’ll come — join us for fun\, fellowship\, a meal and a Birthday Meeting \nFlyer
URL:https://district29aa.org/event/area-birthday-september-2023/
END:VEVENT
BEGIN:VEVENT
DTSTART;VALUE=DATE:20230929
DTEND;VALUE=DATE:20231002
DTSTAMP:20260424T170940
CREATED:20230113T145219Z
LAST-MODIFIED:20230113T145219Z
UID:19903-1695945600-1696204799@district29aa.org
SUMMARY:2023 Southwest Regional Forum
DESCRIPTION:Flyer \nEl Paso\, TX
URL:https://district29aa.org/event/2023-southwest-regional-forum/
END:VEVENT
BEGIN:VEVENT
DTSTART;TZID=America/Chicago:20230910T133000
DTEND;TZID=America/Chicago:20230910T153000
DTSTAMP:20260424T170940
CREATED:20230514T153250Z
LAST-MODIFIED:20230514T153250Z
UID:22218-1694352600-1694359800@district29aa.org
SUMMARY:District Meeting - September\, 2023
DESCRIPTION:
URL:https://district29aa.org/event/district-meeting-september-2023/
END:VEVENT
BEGIN:VEVENT
DTSTART;VALUE=DATE:20230908
DTEND;VALUE=DATE:20230911
DTSTAMP:20260424T170940
CREATED:20230213T005236Z
LAST-MODIFIED:20230213T005301Z
UID:20660-1694131200-1694390399@district29aa.org
SUMMARY:Bridging The Gap Workshop Weekend 2023
DESCRIPTION:Bridging the Gap is a program thru Alcoholics Anonymous to help people leaving a correctional or treatment facility become aquainted with A.A. and attend A.A. meetings in their home town\, after they are released. \nThis year we will be having our Workshop Weekend in person again. Check out the newsletter and flyer for more information. \nFlyer
URL:https://district29aa.org/event/bridging-the-gap-workshop-weekend-2023/
END:VEVENT
BEGIN:VEVENT
DTSTART;TZID=America/Chicago:20230827T103000
DTEND;TZID=America/Chicago:20230827T120000
DTSTAMP:20260424T170940
CREATED:20230807T171647Z
LAST-MODIFIED:20230807T171647Z
UID:23379-1693132200-1693137600@district29aa.org
SUMMARY:2023 Fellowship in the Pines - Pancake Breakfast
DESCRIPTION:Flyer \nPancake Breakfast / Lunch \nIn Support of “Fellowship In The Pines Conference” \nSponsored By: The “Sunday Morning Sidewalk & Bastrop Friday Nite Groups” \nWhen: August 27\, 2023 \nTime: A.A. Speaker @ 10:30 A.M. \nSpeaker: Kevin W.\, Bandara\, TX \nPancakes\, etc.: About 12 Noon \nLocation: 601 Main Street (Where Main St. & Water St. Come Together) \nBastrop\, TX \nThere will be a Raffle \nRaffle 2 Scholarships to F.I.T.P. 2023 \nCome and Enjoy \nSpeaker Meeting – Fun – Food & Fellowship \nAll You Can Eat Pancakes\, With — Sausage\, Juice & Coffee \nFree Will Donation Requested \n($5.00 Adults\, $3.00 Children Under 12 Yrs. Or Free Will Donation)
URL:https://district29aa.org/event/2023-fellowship-in-the-pines-pancake-breakfast/
LOCATION:Masonic Lodge\, 601 Main St\, Bastrop\, TX\, 78212
END:VEVENT
BEGIN:VEVENT
DTSTART;TZID=America/Chicago:20230813T133000
DTEND;TZID=America/Chicago:20230813T153000
DTSTAMP:20260424T170940
CREATED:20230514T153212Z
LAST-MODIFIED:20230514T153212Z
UID:22216-1691933400-1691940600@district29aa.org
SUMMARY:District Meeting - August\, 2023
DESCRIPTION:
URL:https://district29aa.org/event/district-meeting-august-2023/
END:VEVENT
BEGIN:VEVENT
DTSTART;TZID=America/Chicago:20230804T110000
DTEND;TZID=America/Chicago:20230805T170000
DTSTAMP:20260424T170940
CREATED:20230423T132439Z
LAST-MODIFIED:20230521T125557Z
UID:21899-1691146800-1691254800@district29aa.org
SUMMARY:Area 68 PI/CPC Conference
DESCRIPTION:
URL:https://district29aa.org/event/area-68-pi-cpc-conference/
END:VEVENT
BEGIN:VEVENT
DTSTART;VALUE=DATE:20230721
DTEND;VALUE=DATE:20230724
DTSTAMP:20260424T170940
CREATED:20230113T145027Z
LAST-MODIFIED:20230113T145027Z
UID:19901-1689897600-1690156799@district29aa.org
SUMMARY:2023 SWTA Summer Workshop
DESCRIPTION:Flyer  \nBrownwood\, TX
URL:https://district29aa.org/event/2023-swta-summer-workshop/
END:VEVENT
BEGIN:VEVENT
DTSTART;TZID=America/Chicago:20230709T133000
DTEND;TZID=America/Chicago:20230709T153000
DTSTAMP:20260424T170940
CREATED:20230514T153133Z
LAST-MODIFIED:20230514T153133Z
UID:22214-1688909400-1688916600@district29aa.org
SUMMARY:District Meeting - July\, 2023
DESCRIPTION:
URL:https://district29aa.org/event/district-meeting-july-2023/
END:VEVENT
BEGIN:VEVENT
DTSTART;TZID=America/Chicago:20230625T103000
DTEND;TZID=America/Chicago:20230625T123000
DTSTAMP:20260424T170940
CREATED:20230612T133200Z
LAST-MODIFIED:20230612T133200Z
UID:22819-1687689000-1687696200@district29aa.org
SUMMARY:Area Birthday - June\, 2023
DESCRIPTION:Giddings Group WILL NOT be hosting a June 2023 Area Birthday Night. \nTHEREFORE:\n \n~~~~~~~~~~~~~~~~~~~~~~~~~~~~~~~~~~~~~~~~~~~~~~~~~~~~~~ \nBirthday Celebration For Yearly Chips & Pot Luck Breakfast – Lunch – Brunch \nWill Be Hosted By: Bastrop Friday Nite / Sunday Morning Sidewalk Group \nLocation: Mina Masonic Lodge\, 601 Main Street\, Bastrop\, TX \nDate & Time: Last Sunday of the this Month — 25 June 2023 \nPot Luck will Follow the 10:30 AM Meeting \nY’all come & join us for fun\, Fellowship\, a meal and a birthday meeting. \nFlyer
URL:https://district29aa.org/event/area-birthday-june-2023/
LOCATION:Masonic Lodge\, 601 Main St\, Bastrop\, TX\, 78212
END:VEVENT
BEGIN:VEVENT
DTSTART;TZID=America/Chicago:20230624T090000
DTEND;TZID=America/Chicago:20230624T100000
DTSTAMP:20260424T170940
CREATED:20230514T144100Z
LAST-MODIFIED:20230514T144100Z
UID:22208-1687597200-1687600800@district29aa.org
SUMMARY:CFC Committee Meeting - June\, 2023
DESCRIPTION:
URL:https://district29aa.org/event/cfc-committee-meeting-june-2023/
END:VEVENT
BEGIN:VEVENT
DTSTART;TZID=America/Chicago:20230611T133000
DTEND;TZID=America/Chicago:20230611T153000
DTSTAMP:20260424T170940
CREATED:20230514T153056Z
LAST-MODIFIED:20230514T153056Z
UID:22212-1686490200-1686497400@district29aa.org
SUMMARY:District Meeting - June\, 2023
DESCRIPTION:
URL:https://district29aa.org/event/district-meeting-june-2023/
END:VEVENT
BEGIN:VEVENT
DTSTART;VALUE=DATE:20230609
DTEND;VALUE=DATE:20230612
DTSTAMP:20260424T170940
CREATED:20220913T125335Z
LAST-MODIFIED:20220913T125335Z
UID:17401-1686268800-1686527999@district29aa.org
SUMMARY:76th Annual Texas State Convention
DESCRIPTION:76th Annual Texas State AA Convention \nSan Antonio\, Texas \nJune 9-11\, 2023 \nFlyer \nhttps://txaaconvention.org/
URL:https://district29aa.org/event/76th-annual-texas-state-convention/
END:VEVENT
BEGIN:VEVENT
DTSTART;TZID=America/Chicago:20230527T183000
DTEND;TZID=America/Chicago:20230527T210000
DTSTAMP:20260424T170940
CREATED:20230522T220153Z
LAST-MODIFIED:20230522T220153Z
UID:22428-1685212200-1685221200@district29aa.org
SUMMARY:Area Birthday Night - May\, 2023
DESCRIPTION:Will be hosted by the Smithville Group \nFirst Presbyterian Church\n300 Burleson Street\nSmithville\, TX \nFellowship: 6:30pm\nDinner: 7:00pm \nPotluck\, Coffee and Tea will be provided.  Please bring a covered dish — or bring dessert. \nBirthday Meeting: 8:00pm \nY’all come — join us for fun\, fellowship\, a meal and a Birthday Meeting
URL:https://district29aa.org/event/area-birthday-night-may-2023/
LOCATION:Smithville Group\, 300 Burleson Street\, Smithville\, TX\, 78957\, United States
END:VEVENT
BEGIN:VEVENT
DTSTART;TZID=America/Chicago:20230514T120000
DTEND;TZID=America/Chicago:20230514T140000
DTSTAMP:20260424T170940
CREATED:20230514T153006Z
LAST-MODIFIED:20230514T153006Z
UID:22210-1684065600-1684072800@district29aa.org
SUMMARY:District Meeting - May\, 2023
DESCRIPTION:Meeting at Masonic Lodge\, Bastrop @ 12 noon
URL:https://district29aa.org/event/district-meeting-may-2023/
LOCATION:Masonic Lodge\, 601 Main St\, Bastrop\, TX\, 78212
END:VEVENT
BEGIN:VEVENT
DTSTART;TZID=America/Chicago:20230506T170000
DTEND;TZID=America/Chicago:20230506T200000
DTSTAMP:20260424T170940
CREATED:20230415T132154Z
LAST-MODIFIED:20230415T132154Z
UID:21769-1683392400-1683403200@district29aa.org
SUMMARY:18th Annual Oldtimers Banquet 2023
DESCRIPTION:The 18th Annual Oldtimers Banquet \nA Tribute to Members with Long-Term SobrietySaturday\, May 6th\, 2023Covenant Presbyterian Church3003 Northland Drive – Austin\, Texas 787575:00 PM – Doors Open\, 6:00 PM – Dinner\, Speakers to Follow(Speaker is Danny B from Houston)Sobriety Countdown$25.00 (25+ Years Sobriety Free)Flyer
URL:https://district29aa.org/event/18th-annual-oldtimers-banquet-2023/
END:VEVENT
BEGIN:VEVENT
DTSTART;TZID=America/Chicago:20230430T133000
DTEND;TZID=America/Chicago:20230430T173000
DTSTAMP:20260424T170940
CREATED:20230315T144000Z
LAST-MODIFIED:20230315T144000Z
UID:21212-1682861400-1682875800@district29aa.org
SUMMARY:10th Step Workshop - 2023
DESCRIPTION:The Daily Work of Spiritual Recovery \nHow to look for selfishness\, dishonesty\, resentment and fear;\nrecognize the impact of these in our actions and relationships; \nand learn the importance of this daily inventory habit in an our\nongoing spiritual recovery and daily action plan.\n\n\nApril 30\, 2023\n1:30 – 5:30 pm\n\n\nPresented by Michael B and Milan K\n\nLOCATION: OTC Group Clubhouse\n591 Loop 230 W\, SMITHVILLE TX \n(In front of Smithville Pecan House. Look for the AA symbol in the window.)\n\n\n\nLIMITED SEATS. Reserve your seat by emailing:\nOTCgroup78957@gmail.com\n\n\nFlyer
URL:https://district29aa.org/event/10th-step-workshop-2023/
LOCATION:On The Colorado Group\, 145 American Legion Rd\, Smithville\, TX\, 78957\, United States
END:VEVENT
BEGIN:VEVENT
DTSTART;TZID=America/Chicago:20230429T183000
DTEND;TZID=America/Chicago:20230429T210000
DTSTAMP:20260424T170940
CREATED:20230405T180623Z
LAST-MODIFIED:20230405T180623Z
UID:21603-1682793000-1682802000@district29aa.org
SUMMARY:Area Birthday Night - April\, 2023
DESCRIPTION:Hosted By: Bastrop Friday Nite / Sunday Morning GroupWill Be At: Mina Masonic Lodge601 Main StBastrop\, TexasFellowship: 6:30 pmDinner: 7:00 pmBrisket\, Coffee and Ice Tea will be provided.Please bring a covered dish to compliment Brisket or bring a dessert***************************Birthday Meeting: 8:00 pmY’all come — join us for fun\, fellowship\, meal\, and a Birthday Meeting \nFlyer
URL:https://district29aa.org/event/area-birthday-night-april-2023/
END:VEVENT
BEGIN:VEVENT
DTSTART;VALUE=DATE:20230331
DTEND;VALUE=DATE:20230403
DTSTAMP:20260424T170940
CREATED:20230113T144935Z
LAST-MODIFIED:20230214T162402Z
UID:19899-1680220800-1680479999@district29aa.org
SUMMARY:2023 SWTA Pre General Service Conference
DESCRIPTION:Flyer \nSpanish Flyer \nMarble Falls\, TX
URL:https://district29aa.org/event/2023-swta-pre-general-service-conference/
END:VEVENT
BEGIN:VEVENT
DTSTART;TZID=America/Chicago:20230325T183000
DTEND;TZID=America/Chicago:20230325T210000
DTSTAMP:20260424T170940
CREATED:20230314T175221Z
LAST-MODIFIED:20230314T175221Z
UID:21184-1679769000-1679778000@district29aa.org
SUMMARY:Area Birthday Night - March\, 2023
DESCRIPTION:Area Birthday NightSaturday – March 25\, 2023Hosted By: Bastrop Friday Nite / Sunday Morning GroupWill Be At: Mina Masonic Lodge601 Main StBastrop\, TexasFellowship: 6:30 pmDinner: 7:00 pmFried Chicken\, Coffee and Ice Tea will be provided.Please bring a covered Dish to compliment Fried Chicken or Bring a dessert***************************Birthday Meeting: 8:00 pmYa’ll come — join us for fun\, fellowship\, meal\, and a Birthday Meeting \nFlyer
URL:https://district29aa.org/event/area-birthday-night-march-2023/
END:VEVENT
BEGIN:VEVENT
DTSTART;TZID=America/Chicago:20230225T183000
DTEND;TZID=America/Chicago:20230225T210000
DTSTAMP:20260424T170940
CREATED:20230210T164037Z
LAST-MODIFIED:20230210T164037Z
UID:20613-1677349800-1677358800@district29aa.org
SUMMARY:Area Birthday - February 2023
DESCRIPTION:Flyer
URL:https://district29aa.org/event/area-birthday-february-2023/
LOCATION:Gratitude Group\, 275 Ellinger Rd\, La Grange\, TX\, 78945\, United States
END:VEVENT
BEGIN:VEVENT
DTSTART;VALUE=DATE:20230203
DTEND;VALUE=DATE:20230205
DTSTAMP:20260424T170940
CREATED:20230113T144748Z
LAST-MODIFIED:20230113T145510Z
UID:19897-1675382400-1675555199@district29aa.org
SUMMARY:2023 SWTA CFC Conference
DESCRIPTION:Flyer \nSan Antonio\, TX
URL:https://district29aa.org/event/2023-swta-cfc-conference/
END:VEVENT
BEGIN:VEVENT
DTSTART;TZID=America/Chicago:20230128T180000
DTEND;TZID=America/Chicago:20230128T210000
DTSTAMP:20260424T170940
CREATED:20230122T013220Z
LAST-MODIFIED:20230122T013220Z
UID:20091-1674928800-1674939600@district29aa.org
SUMMARY:Area Birthday Night - January\, 2023
DESCRIPTION:JANUARY AREA BIRTHDAY NIGHTHosted by The PHELAN ROAD GROUPJANUARY 28\, 2023— EAT AT 6:00 PM —POTLUCKPLEASE BRING A COVERED DISH OR A DESERTCOFFEE and TEA PROVIDEDMEETING AT 7:00 PMCOME AND JOIN US FOR FUN AND FELLOWSHIP \nFlyer
URL:https://district29aa.org/event/area-birthday-night-january-2023/
END:VEVENT
BEGIN:VEVENT
DTSTART;VALUE=DATE:20230113
DTEND;VALUE=DATE:20230116
DTSTAMP:20260424T170940
CREATED:20230113T144645Z
LAST-MODIFIED:20230113T145447Z
UID:19894-1673568000-1673827199@district29aa.org
SUMMARY:2023 SWTA Winter Workshop
DESCRIPTION:Flyer \nCorpus Christi\, TX
URL:https://district29aa.org/event/2023-swta-winter-workshop/
END:VEVENT
BEGIN:VEVENT
DTSTART;TZID=America/Chicago:20221231T183000
DTEND;TZID=America/Chicago:20221231T210000
DTSTAMP:20260424T170940
CREATED:20221205T212710Z
LAST-MODIFIED:20221212T041345Z
UID:19020-1672511400-1672520400@district29aa.org
SUMMARY:Area Birthday Night - December 2022
DESCRIPTION:Hosted by Legacies Group \nTime:\nFellowship 6:30PM\nDinner 7:00PM\nMeeting 8:00PM \nFried chicken\, coffee\, and iced tea will be provided. \nPlease bring a side dish and/or desserts! \nFlyer
URL:https://district29aa.org/event/area-birthday-night-december-2022/
LOCATION:Legacies Group\, 1201 Water Street\, Bastrop\, TX\, 78602\, United States
END:VEVENT
BEGIN:VEVENT
DTSTART;TZID=America/Chicago:20221211T113000
DTEND;TZID=America/Chicago:20221211T133000
DTSTAMP:20260424T170940
CREATED:20221205T212342Z
LAST-MODIFIED:20221212T041819Z
UID:19018-1670758200-1670765400@district29aa.org
SUMMARY:Christmas Get Together
DESCRIPTION:Bastrop Friday Nite / Sunday Morning Sidewalk Group \nwill be hosting a Christmas Get Together \nWhere:\nMina Masonic Lodge\n601 Main Street\nBastrop\, TX \nWhen:\nDecember 11\, 2022 \nTime:\nFollowing the 10:30AM meeting \nType of Event:\nCovered dish – Mexican fiesta\nBring a covered dish to share with others\nIced Tea and coffee provided \nGames can be played – bring your own – no gambling \nFlyer
URL:https://district29aa.org/event/christmas-get-together/
END:VEVENT
END:VCALENDAR