BEGIN:VCALENDAR
VERSION:2.0
PRODID:-//District 29 - ECPv6.15.20//NONSGML v1.0//EN
CALSCALE:GREGORIAN
METHOD:PUBLISH
X-WR-CALNAME:District 29
X-ORIGINAL-URL:https://district29aa.org
X-WR-CALDESC:Events for District 29
REFRESH-INTERVAL;VALUE=DURATION:PT1H
X-Robots-Tag:noindex
X-PUBLISHED-TTL:PT1H
BEGIN:VTIMEZONE
TZID:America/Chicago
BEGIN:DAYLIGHT
TZOFFSETFROM:-0600
TZOFFSETTO:-0500
TZNAME:CDT
DTSTART:20220313T080000
END:DAYLIGHT
BEGIN:STANDARD
TZOFFSETFROM:-0500
TZOFFSETTO:-0600
TZNAME:CST
DTSTART:20221106T070000
END:STANDARD
BEGIN:DAYLIGHT
TZOFFSETFROM:-0600
TZOFFSETTO:-0500
TZNAME:CDT
DTSTART:20230312T080000
END:DAYLIGHT
BEGIN:STANDARD
TZOFFSETFROM:-0500
TZOFFSETTO:-0600
TZNAME:CST
DTSTART:20231105T070000
END:STANDARD
BEGIN:DAYLIGHT
TZOFFSETFROM:-0600
TZOFFSETTO:-0500
TZNAME:CDT
DTSTART:20240310T080000
END:DAYLIGHT
BEGIN:STANDARD
TZOFFSETFROM:-0500
TZOFFSETTO:-0600
TZNAME:CST
DTSTART:20241103T070000
END:STANDARD
BEGIN:DAYLIGHT
TZOFFSETFROM:-0600
TZOFFSETTO:-0500
TZNAME:CDT
DTSTART:20250309T080000
END:DAYLIGHT
BEGIN:STANDARD
TZOFFSETFROM:-0500
TZOFFSETTO:-0600
TZNAME:CST
DTSTART:20251102T070000
END:STANDARD
END:VTIMEZONE
BEGIN:VEVENT
DTSTART;VALUE=DATE:20241011
DTEND;VALUE=DATE:20241014
DTSTAMP:20260424T232608
CREATED:20230113T145322Z
LAST-MODIFIED:20230113T145322Z
UID:19905-1728604800-1728863999@district29aa.org
SUMMARY:2024 SWAARSA
DESCRIPTION:Flyer  \nDallas\, TX
URL:https://district29aa.org/event/2024-swaarsa/
LOCATION:TX
END:VEVENT
BEGIN:VEVENT
DTSTART;TZID=America/Chicago:20240908T103000
DTEND;TZID=America/Chicago:20240908T133000
DTSTAMP:20260424T232608
CREATED:20240827T130533Z
LAST-MODIFIED:20240827T130548Z
UID:25036-1725791400-1725802200@district29aa.org
SUMMARY:2024 Pancake Breakfast / Lunch
DESCRIPTION:Pancake Breakfast / Lunch\nIn Support of “Fellowship In The Pines Conference”\nSponsored By: The “Bastrop Friday Nite / Sunday Morning Sidewalk Group” \nWhen: September 8\, 2024\nTime: A.A. Speaker @ 10:30 A.M.\nSpeaker: Don Z.\, Austin\, TX\nPancakes\, etc.: About 12 Noon \nLocation: 601 Main Street\n(Where Main St. & Water St. Come Together)\nBastrop\, TX \nThere will be a Raffle.\nRaffle 2 Scholarships to F.I.T.P. 2024 \nCome and Enjoy\nSpeaker Meeting – Fun – Food & Fellowship \nAll You Can Eat Pancakes\,\nWith — Sausage\, Juice & Coffee\nDonation Requested\n($5.00 Adults\n$3.00 Children Under 12 Yrs.\nOr Free Will Donation) \nFlyer
URL:https://district29aa.org/event/2024-pancake-breakfast-lunch/
LOCATION:Masonic Lodge\, 601 Main St\, Bastrop\, TX\, 78212
END:VEVENT
BEGIN:VEVENT
DTSTART;VALUE=DATE:20240809
DTEND;VALUE=DATE:20240811
DTSTAMP:20260424T232608
CREATED:20240429T153022Z
LAST-MODIFIED:20240429T153027Z
UID:24637-1723161600-1723334399@district29aa.org
SUMMARY:2024 SWTA68 Annual PI/CPC Conference
DESCRIPTION:“Anonymous\, but not invisible” \nEnglish Flyer \nSpanish Flyer
URL:https://district29aa.org/event/2024-swta68-annual-pi-cpc-conference/
LOCATION:Williamson Conference Center\, 1209 N IH-35\, Round Rock\, TX\, 78664\, United States
END:VEVENT
BEGIN:VEVENT
DTSTART;TZID=America/Chicago:20240803T130000
DTEND;TZID=America/Chicago:20240803T150000
DTSTAMP:20260424T232608
CREATED:20240724T204157Z
LAST-MODIFIED:20240726T023502Z
UID:24896-1722690000-1722697200@district29aa.org
SUMMARY:Area 68 Delegate’s Report 2024
DESCRIPTION:Come and See! Hear the Area 68 Delegate’s Report! Ask Questions about the direction of AA. \nSaturday\, August 3\, 2024 – 1PM to 3 PM \nMina Masonic Lodge\n601 Main St.\nBastrop\, TX 78602 \nThe Area 68 Delegate for Panel 74\, KC\, is coming to District 29 to give a report on his trip to New York and the AA General Service Conference this past April (Delegate’s Report.) \n● Are we re-writing the Big Book?\n● Are we developing new literature?\n● Is the fellowship being fiscally responsible?\n● What is the future of “The Grapevine”?\n● What changes can we expect to see coming to AA?\n● If you ever ask yourself these questions\, now is the time to find out the answers. Hope U attend \nDelegatecoming24 – Anonymous
URL:https://district29aa.org/event/area-68-delegates-report-2024/
LOCATION:Masonic Lodge\, 601 Main St\, Bastrop\, TX\, 78212
END:VEVENT
BEGIN:VEVENT
DTSTART;TZID=America/Chicago:20240714T133000
DTEND;TZID=America/Chicago:20240714T153000
DTSTAMP:20260424T232608
CREATED:20230514T153921Z
LAST-MODIFIED:20230514T153921Z
UID:22238-1720963800-1720971000@district29aa.org
SUMMARY:District Meeting - July\, 2024
DESCRIPTION:
URL:https://district29aa.org/event/district-meeting-july-2024/
LOCATION:TX
END:VEVENT
BEGIN:VEVENT
DTSTART;TZID=America/Chicago:20240629T180000
DTEND;TZID=America/Chicago:20240629T210000
DTSTAMP:20260424T232608
CREATED:20240620T174715Z
LAST-MODIFIED:20240620T174715Z
UID:24780-1719684000-1719694800@district29aa.org
SUMMARY:June 2024 Area Birthday Night
DESCRIPTION:Area Birthday Night\nSaturday – June 29\, 2024\nHosted By: Giddings Group\nLocation: J. D. Giddings Masonic Lodge\n277 E. Hempstead\n(Entrance also on S. Leon St.)\nGiddings\, Texas\nFellowship: 6:30 PM\nPotluck Dinner: 7:00 PM\nCoffee\, Iced Tea and Water Will be provided.\nPlease bring a Covered Dish or Bring a Dessert\n****************************\nBirthday Meeting: 8:00 PM\nY’all Come — Join Us For Fun\,\nFellowship\, Meal and a Birthday Meeting \nFlyer
URL:https://district29aa.org/event/june-2024-area-birthday-night/
LOCATION:Giddings Group
END:VEVENT
BEGIN:VEVENT
DTSTART;TZID=America/Chicago:20240609T133000
DTEND;TZID=America/Chicago:20240609T153000
DTSTAMP:20260424T232608
CREATED:20230514T153813Z
LAST-MODIFIED:20230514T153813Z
UID:22236-1717939800-1717947000@district29aa.org
SUMMARY:District Meeting - June\, 2024
DESCRIPTION:
URL:https://district29aa.org/event/district-meeting-june-2024/
LOCATION:TX
END:VEVENT
BEGIN:VEVENT
DTSTART;TZID=America/Chicago:20240512T133000
DTEND;TZID=America/Chicago:20240512T153000
DTSTAMP:20260424T232608
CREATED:20230514T153650Z
LAST-MODIFIED:20230514T153650Z
UID:22234-1715520600-1715527800@district29aa.org
SUMMARY:District Meeting - May\, 2024
DESCRIPTION:
URL:https://district29aa.org/event/district-meeting-may-2024/
LOCATION:TX
END:VEVENT
BEGIN:VEVENT
DTSTART;TZID=America/Chicago:20240428T133000
DTEND;TZID=America/Chicago:20240428T173000
DTSTAMP:20260424T232608
CREATED:20240321T134538Z
LAST-MODIFIED:20240321T134604Z
UID:24482-1714311000-1714325400@district29aa.org
SUMMARY:2024 Leadership in AA Workshop
DESCRIPTION:BOOK STUDY 2024 \n“No society can function well without able leadership in all its levels\, and AA can be no exception. It must be said\, though\, that we AAs sometimes cherish the thought that we can do without any leadership at all. We are apt to warp the traditional idea of “principles before personalities” around to such a point that there would be no “personality” in leadership whatever. This would imply rather faceless automatons trying to please everybody\, regardless.”\n~ Bill W. in The Grapevine\, April 1959 \nLEADERSHIP in AA: Ever a Vital Need \nApril 28th\, 2024\n1:30 – 5:30 pm \nOTC Group Clubhouse\n591 Loop 230 W\nSMITHVILLE TX\n(In front of Smithville Pecan House. Look for the AA symbol in the window.) \nStudy led by Michael B. and Milan K.\nLimited spots. Reserve your space by emailing:\nOTCgroup78957@gmail.com \nFlyer
URL:https://district29aa.org/event/2024-leadership-in-aa-workshop/
LOCATION:On The Colorado Group\, 145 American Legion Rd\, Smithville\, TX\, 78957\, United States
END:VEVENT
BEGIN:VEVENT
DTSTART;TZID=America/Chicago:20240414T133000
DTEND;TZID=America/Chicago:20240414T153000
DTSTAMP:20260424T232608
CREATED:20230514T153623Z
LAST-MODIFIED:20230514T153623Z
UID:22232-1713101400-1713108600@district29aa.org
SUMMARY:District Meeting - April\, 2024
DESCRIPTION:
URL:https://district29aa.org/event/district-meeting-april-2024/
LOCATION:TX
END:VEVENT
BEGIN:VEVENT
DTSTART;TZID=America/Chicago:20240310T133000
DTEND;TZID=America/Chicago:20240310T153000
DTSTAMP:20260424T232608
CREATED:20230514T153553Z
LAST-MODIFIED:20230514T153553Z
UID:22230-1710077400-1710084600@district29aa.org
SUMMARY:District Meeting - March\, 2024
DESCRIPTION:
URL:https://district29aa.org/event/district-meeting-march-2024/
LOCATION:TX
END:VEVENT
BEGIN:VEVENT
DTSTART;TZID=America/Chicago:20240211T133000
DTEND;TZID=America/Chicago:20240211T153000
DTSTAMP:20260424T232608
CREATED:20230514T153524Z
LAST-MODIFIED:20230514T153524Z
UID:22228-1707658200-1707665400@district29aa.org
SUMMARY:District Meeting - February\, 2024
DESCRIPTION:
URL:https://district29aa.org/event/district-meeting-february-2024/
LOCATION:TX
END:VEVENT
BEGIN:VEVENT
DTSTART;TZID=America/Chicago:20240114T133000
DTEND;TZID=America/Chicago:20240114T153000
DTSTAMP:20260424T232608
CREATED:20230514T153454Z
LAST-MODIFIED:20230514T153454Z
UID:22226-1705239000-1705246200@district29aa.org
SUMMARY:District Meeting - January\, 2024
DESCRIPTION:
URL:https://district29aa.org/event/district-meeting-january-2024/
LOCATION:TX
END:VEVENT
BEGIN:VEVENT
DTSTART;VALUE=DATE:20240112
DTEND;VALUE=DATE:20240115
DTSTAMP:20260424T232608
CREATED:20231122T103524Z
LAST-MODIFIED:20231122T103554Z
UID:23828-1705017600-1705276799@district29aa.org
SUMMARY:SWTA 68 Winter Workshop
DESCRIPTION:What is our\nchoice to be…\nJanuary 12-14\, 2024\nSWTA 68 Panel 74\nWinter Workshop\nWorkshop locations:\n*January 12 & 13\nBraden Keller Center\n1410 Amelia\nCastroville\, TX\n*January 14 Hillside Boutique Hotel \nLodging:\nHillside Boutique Hotel\n1651 US-90 West\nCastroville\, TX\n(830) 538-3200 \nLodging:\nBest Western Hotel Sea World West\n1605 W. 1604 Loop S\nSan Antonio\, TX\n(210) 562-3065 \nAdditional lodging info. call Tegan T. (830) 931-5010 \nFlyer
URL:https://district29aa.org/event/swta-68-winter-workshop-2/
LOCATION:TX
END:VEVENT
BEGIN:VEVENT
DTSTART;TZID=America/Chicago:20240106T090000
DTEND;TZID=America/Chicago:20240106T110000
DTSTAMP:20260424T232608
CREATED:20231130T211155Z
LAST-MODIFIED:20231130T211155Z
UID:23839-1704531600-1704538800@district29aa.org
SUMMARY:CFC Conference Bake Sale - Elgin
DESCRIPTION:Flyer
URL:https://district29aa.org/event/cfc-conference-bake-sale-elgin/
LOCATION:Elgin Group\, 2418 FM 1704\, Elgin\, TX\, 78621\, United States
END:VEVENT
BEGIN:VEVENT
DTSTART;TZID=America/Chicago:20231230T183000
DTEND;TZID=America/Chicago:20231230T210000
DTSTAMP:20260424T232608
CREATED:20231207T205818Z
LAST-MODIFIED:20231207T205818Z
UID:23845-1703961000-1703970000@district29aa.org
SUMMARY:Area Birthday\, December 2023
DESCRIPTION:LEGACIES GROUP \nCORDIALLY INVITES ALL TO CELEBRATE \nDecember Area Birthday \nWHEN: DECEMBER 30\, 2023 \nWHERE: 601 MAIN ST (MINA LODGE) \nTIME: FELLOWSHIP 6:30 EAT 7:00 MEET 8:00 \nFRIED CHICKEN AND DRINKS PROVIDED \nPLEASE BRING SIDES AND DESSERTS! \nFlyer
URL:https://district29aa.org/event/area-birthday-december-2023/
LOCATION:TX
END:VEVENT
BEGIN:VEVENT
DTSTART;TZID=America/Chicago:20231210T150000
DTEND;TZID=America/Chicago:20231210T170000
DTSTAMP:20260424T232608
CREATED:20231130T211054Z
LAST-MODIFIED:20231130T211054Z
UID:23837-1702220400-1702227600@district29aa.org
SUMMARY:CFC Conference Bake Sale
DESCRIPTION:Flyer
URL:https://district29aa.org/event/cfc-conference-bake-sale/
LOCATION:On The Colorado Group\, 145 American Legion Rd\, Smithville\, TX\, 78957\, United States
END:VEVENT
BEGIN:VEVENT
DTSTART;TZID=America/Chicago:20231210T133000
DTEND;TZID=America/Chicago:20231210T153000
DTSTAMP:20260424T232608
CREATED:20230514T153422Z
LAST-MODIFIED:20230514T153422Z
UID:22224-1702215000-1702222200@district29aa.org
SUMMARY:District Meeting - December\, 2023
DESCRIPTION:
URL:https://district29aa.org/event/district-meeting-december-2023/
LOCATION:TX
END:VEVENT
BEGIN:VEVENT
DTSTART;TZID=America/Chicago:20231112T133000
DTEND;TZID=America/Chicago:20231112T153000
DTSTAMP:20260424T232608
CREATED:20230514T153350Z
LAST-MODIFIED:20230514T153350Z
UID:22222-1699795800-1699803000@district29aa.org
SUMMARY:District Meeting - November\, 2023
DESCRIPTION:
URL:https://district29aa.org/event/district-meeting-november-2023/
LOCATION:TX
END:VEVENT
BEGIN:VEVENT
DTSTART;VALUE=DATE:20231110
DTEND;VALUE=DATE:20231113
DTSTAMP:20260424T232608
CREATED:20230213T005448Z
LAST-MODIFIED:20230213T005448Z
UID:20662-1699574400-1699833599@district29aa.org
SUMMARY:6th Annual National Corrections Conference
DESCRIPTION:Join us for the 6th Annual National Corrections Conference.\nNovember 10-12\, 2023\nOklahoma City\, OK\nThe purpose of this weekend is for A.A. members interested in corrections to come together\, share experience\, exchange information\, and hear from other trusted servants. \nWe hope to inspire A.A. members everywhere to get involved in this important and rewarding service. \nThe location will be the\nEmbassy Suites by Hilton Oklahoma City Northwest\n3233 Northwest Expy\nOklahoma City\, OK 73112\n(405) 842-6633 \nFlyer
URL:https://district29aa.org/event/6th-annual-national-corrections-conference/
LOCATION:TX
END:VEVENT
BEGIN:VEVENT
DTSTART;TZID=America/Chicago:20231028T133000
DTEND;TZID=America/Chicago:20231029T173000
DTSTAMP:20260424T232608
CREATED:20230730T061457Z
LAST-MODIFIED:20230730T061536Z
UID:23313-1698499800-1698600600@district29aa.org
SUMMARY:2023 12 Step Workshop
DESCRIPTION:Take a guided walk through the Steps.\nLearn life & training skills during this hands-on practice of working the 12 Steps of Alcoholics Anonymous according to the “Big Book.” \nOTC Group\n591 Loop 230 W\nSMITHVILLE TX\n(In front of Smithville Pecan House. Look for the AA symbol in the window.)\nLimited spots. Reserve your space by emailing:\nOTCgroup78957@gmail.com \nFlyer
URL:https://district29aa.org/event/2023-12-step-workshop/
LOCATION:On The Colorado Group\, 145 American Legion Rd\, Smithville\, TX\, 78957\, United States
END:VEVENT
BEGIN:VEVENT
DTSTART;VALUE=DATE:20231020
DTEND;VALUE=DATE:20231023
DTSTAMP:20260424T232608
CREATED:20230404T130712Z
LAST-MODIFIED:20230404T130712Z
UID:21583-1697760000-1698019199@district29aa.org
SUMMARY:Area 68 Fall Voting Assembly 2023
DESCRIPTION:Temple\, TX \nFlyer
URL:https://district29aa.org/event/area-68-fall-voting-assembly-2023/
LOCATION:TX
END:VEVENT
BEGIN:VEVENT
DTSTART;TZID=America/Chicago:20231008T133000
DTEND;TZID=America/Chicago:20231008T153000
DTSTAMP:20260424T232608
CREATED:20230514T153323Z
LAST-MODIFIED:20230514T153323Z
UID:22220-1696771800-1696779000@district29aa.org
SUMMARY:District Meeting - October\, 2023
DESCRIPTION:
URL:https://district29aa.org/event/district-meeting-october-2023/
LOCATION:TX
END:VEVENT
BEGIN:VEVENT
DTSTART;TZID=America/Chicago:20230930T183000
DTEND;TZID=America/Chicago:20230930T210000
DTSTAMP:20260424T232608
CREATED:20230910T170509Z
LAST-MODIFIED:20230910T170538Z
UID:23606-1696098600-1696107600@district29aa.org
SUMMARY:Area Birthday - September 2023
DESCRIPTION:SEPTEMBER AREA BIRTHDAY NIGHT — Will be hosted by the Bastrop Friday Nite / Sunday Morning Sidewalk Group on September 30\, 2023 — Please See Flier Attached 😁 \n~~~~~~~~~~~~~~~~~~~~~~~~~~~~~~~~~~~~~~~~~~~~~~~~~~~~~~\n \nHosted By: Bastrop Friday Nite / Sunday Morning Sidewalk Group Group\nWill be at: Mina Masonic Lodge\, 601 Main Street\, Bastrop\, Texas\nFellowship: 6:30 pm\nDinner: 7:00 pm\nMeat\, Coffee and Ice Tea will be provided.\nPlease bring a covered Dish or Bring a dessert\n***************************\nBirthday Meeting: 8:00 pm\nY’ll come — join us for fun\, fellowship\, a meal and a Birthday Meeting \nFlyer
URL:https://district29aa.org/event/area-birthday-september-2023/
LOCATION:TX
END:VEVENT
BEGIN:VEVENT
DTSTART;VALUE=DATE:20230929
DTEND;VALUE=DATE:20231002
DTSTAMP:20260424T232608
CREATED:20230113T145219Z
LAST-MODIFIED:20230113T145219Z
UID:19903-1695945600-1696204799@district29aa.org
SUMMARY:2023 Southwest Regional Forum
DESCRIPTION:Flyer \nEl Paso\, TX
URL:https://district29aa.org/event/2023-southwest-regional-forum/
LOCATION:TX
END:VEVENT
BEGIN:VEVENT
DTSTART;TZID=America/Chicago:20230910T133000
DTEND;TZID=America/Chicago:20230910T153000
DTSTAMP:20260424T232608
CREATED:20230514T153250Z
LAST-MODIFIED:20230514T153250Z
UID:22218-1694352600-1694359800@district29aa.org
SUMMARY:District Meeting - September\, 2023
DESCRIPTION:
URL:https://district29aa.org/event/district-meeting-september-2023/
LOCATION:TX
END:VEVENT
BEGIN:VEVENT
DTSTART;VALUE=DATE:20230908
DTEND;VALUE=DATE:20230911
DTSTAMP:20260424T232608
CREATED:20230213T005236Z
LAST-MODIFIED:20230213T005301Z
UID:20660-1694131200-1694390399@district29aa.org
SUMMARY:Bridging The Gap Workshop Weekend 2023
DESCRIPTION:Bridging the Gap is a program thru Alcoholics Anonymous to help people leaving a correctional or treatment facility become aquainted with A.A. and attend A.A. meetings in their home town\, after they are released. \nThis year we will be having our Workshop Weekend in person again. Check out the newsletter and flyer for more information. \nFlyer
URL:https://district29aa.org/event/bridging-the-gap-workshop-weekend-2023/
LOCATION:TX
END:VEVENT
BEGIN:VEVENT
DTSTART;TZID=America/Chicago:20230827T103000
DTEND;TZID=America/Chicago:20230827T120000
DTSTAMP:20260424T232608
CREATED:20230807T171647Z
LAST-MODIFIED:20230807T171647Z
UID:23379-1693132200-1693137600@district29aa.org
SUMMARY:2023 Fellowship in the Pines - Pancake Breakfast
DESCRIPTION:Flyer \nPancake Breakfast / Lunch \nIn Support of “Fellowship In The Pines Conference” \nSponsored By: The “Sunday Morning Sidewalk & Bastrop Friday Nite Groups” \nWhen: August 27\, 2023 \nTime: A.A. Speaker @ 10:30 A.M. \nSpeaker: Kevin W.\, Bandara\, TX \nPancakes\, etc.: About 12 Noon \nLocation: 601 Main Street (Where Main St. & Water St. Come Together) \nBastrop\, TX \nThere will be a Raffle \nRaffle 2 Scholarships to F.I.T.P. 2023 \nCome and Enjoy \nSpeaker Meeting – Fun – Food & Fellowship \nAll You Can Eat Pancakes\, With — Sausage\, Juice & Coffee \nFree Will Donation Requested \n($5.00 Adults\, $3.00 Children Under 12 Yrs. Or Free Will Donation)
URL:https://district29aa.org/event/2023-fellowship-in-the-pines-pancake-breakfast/
LOCATION:Masonic Lodge\, 601 Main St\, Bastrop\, TX\, 78212
END:VEVENT
BEGIN:VEVENT
DTSTART;TZID=America/Chicago:20230813T133000
DTEND;TZID=America/Chicago:20230813T153000
DTSTAMP:20260424T232608
CREATED:20230514T153212Z
LAST-MODIFIED:20230514T153212Z
UID:22216-1691933400-1691940600@district29aa.org
SUMMARY:District Meeting - August\, 2023
DESCRIPTION:
URL:https://district29aa.org/event/district-meeting-august-2023/
LOCATION:TX
END:VEVENT
BEGIN:VEVENT
DTSTART;TZID=America/Chicago:20230804T110000
DTEND;TZID=America/Chicago:20230805T170000
DTSTAMP:20260424T232608
CREATED:20230423T132439Z
LAST-MODIFIED:20230521T125557Z
UID:21899-1691146800-1691254800@district29aa.org
SUMMARY:Area 68 PI/CPC Conference
DESCRIPTION:
URL:https://district29aa.org/event/area-68-pi-cpc-conference/
LOCATION:TX
END:VEVENT
END:VCALENDAR