BEGIN:VCALENDAR
VERSION:2.0
PRODID:-//District 29 - ECPv6.15.20//NONSGML v1.0//EN
CALSCALE:GREGORIAN
METHOD:PUBLISH
X-WR-CALNAME:District 29
X-ORIGINAL-URL:https://district29aa.org
X-WR-CALDESC:Events for District 29
REFRESH-INTERVAL;VALUE=DURATION:PT1H
X-Robots-Tag:noindex
X-PUBLISHED-TTL:PT1H
BEGIN:VTIMEZONE
TZID:America/Chicago
BEGIN:DAYLIGHT
TZOFFSETFROM:-0600
TZOFFSETTO:-0500
TZNAME:CDT
DTSTART:20250309T080000
END:DAYLIGHT
BEGIN:STANDARD
TZOFFSETFROM:-0500
TZOFFSETTO:-0600
TZNAME:CST
DTSTART:20251102T070000
END:STANDARD
BEGIN:DAYLIGHT
TZOFFSETFROM:-0600
TZOFFSETTO:-0500
TZNAME:CDT
DTSTART:20260308T080000
END:DAYLIGHT
BEGIN:STANDARD
TZOFFSETFROM:-0500
TZOFFSETTO:-0600
TZNAME:CST
DTSTART:20261101T070000
END:STANDARD
BEGIN:DAYLIGHT
TZOFFSETFROM:-0600
TZOFFSETTO:-0500
TZNAME:CDT
DTSTART:20270314T080000
END:DAYLIGHT
BEGIN:STANDARD
TZOFFSETFROM:-0500
TZOFFSETTO:-0600
TZNAME:CST
DTSTART:20271107T070000
END:STANDARD
END:VTIMEZONE
BEGIN:VEVENT
DTSTART;VALUE=DATE:20260410
DTEND;VALUE=DATE:20260413
DTSTAMP:20260424T195938
CREATED:20260309T030953Z
LAST-MODIFIED:20260309T031006Z
UID:27202-1775779200-1776038399@district29aa.org
SUMMARY:Area 68 2026 Spring Assembly
DESCRIPTION:HOSTED BY DISTRICT 4\nAPRIL 10-12\, 2026\nDEPOT CIVIC CENTER\n600 E. DEPOT STREET\nBROWNWOOD\, TX 76801
URL:https://district29aa.org/event/area-68-spring-assembly/
END:VEVENT
END:VCALENDAR